BEGIN:VCALENDAR
VERSION:2.0
PRODID:-//Meg&#039;s Inspirations - ECPv6.9.0//NONSGML v1.0//EN
CALSCALE:GREGORIAN
METHOD:PUBLISH
X-WR-CALNAME:Meg&#039;s Inspirations
X-ORIGINAL-URL:https://megsinspirations.com
X-WR-CALDESC:Events for Meg&#039;s Inspirations
REFRESH-INTERVAL;VALUE=DURATION:PT1H
X-Robots-Tag:noindex
X-PUBLISHED-TTL:PT1H
BEGIN:VTIMEZONE
TZID:America/New_York
BEGIN:DAYLIGHT
TZOFFSETFROM:-0500
TZOFFSETTO:-0400
TZNAME:EDT
DTSTART:20210314T070000
END:DAYLIGHT
BEGIN:STANDARD
TZOFFSETFROM:-0400
TZOFFSETTO:-0500
TZNAME:EST
DTSTART:20211107T060000
END:STANDARD
BEGIN:DAYLIGHT
TZOFFSETFROM:-0500
TZOFFSETTO:-0400
TZNAME:EDT
DTSTART:20220313T070000
END:DAYLIGHT
BEGIN:STANDARD
TZOFFSETFROM:-0400
TZOFFSETTO:-0500
TZNAME:EST
DTSTART:20221106T060000
END:STANDARD
BEGIN:DAYLIGHT
TZOFFSETFROM:-0500
TZOFFSETTO:-0400
TZNAME:EDT
DTSTART:20230312T070000
END:DAYLIGHT
BEGIN:STANDARD
TZOFFSETFROM:-0400
TZOFFSETTO:-0500
TZNAME:EST
DTSTART:20231105T060000
END:STANDARD
BEGIN:DAYLIGHT
TZOFFSETFROM:-0500
TZOFFSETTO:-0400
TZNAME:EDT
DTSTART:20240310T070000
END:DAYLIGHT
BEGIN:STANDARD
TZOFFSETFROM:-0400
TZOFFSETTO:-0500
TZNAME:EST
DTSTART:20241103T060000
END:STANDARD
BEGIN:DAYLIGHT
TZOFFSETFROM:-0500
TZOFFSETTO:-0400
TZNAME:EDT
DTSTART:20250309T070000
END:DAYLIGHT
BEGIN:STANDARD
TZOFFSETFROM:-0400
TZOFFSETTO:-0500
TZNAME:EST
DTSTART:20251102T060000
END:STANDARD
BEGIN:DAYLIGHT
TZOFFSETFROM:-0500
TZOFFSETTO:-0400
TZNAME:EDT
DTSTART:20260308T070000
END:DAYLIGHT
BEGIN:STANDARD
TZOFFSETFROM:-0400
TZOFFSETTO:-0500
TZNAME:EST
DTSTART:20261101T060000
END:STANDARD
END:VTIMEZONE
BEGIN:VEVENT
DTSTART;VALUE=DATE:20260422
DTEND;VALUE=DATE:20260423
DTSTAMP:20260423T014717
CREATED:20201020T134559Z
LAST-MODIFIED:20260422T135439Z
UID:4206-1776816000-1776902399@megsinspirations.com
SUMMARY:Tarot Readings
DESCRIPTION: 
URL:https://megsinspirations.com/event/tarot-readings/
CATEGORIES:Honors,Recurring Event
ATTACH;FMTTYPE=image/jpeg:https://megsinspirations.com/wp-content/uploads/2020/10/gemma-e1603202045564.jpg
END:VEVENT
BEGIN:VEVENT
DTSTART;TZID=America/New_York:20260206T130000
DTEND;TZID=America/New_York:20260206T170000
DTSTAMP:20260423T014717
CREATED:20210514T190833Z
LAST-MODIFIED:20260128T203706Z
UID:4423-1770382800-1770397200@megsinspirations.com
SUMMARY:Sound Vibrational Healing
DESCRIPTION:
URL:https://megsinspirations.com/event/sound-vibrational-healing-2-copy/
CATEGORIES:Honors
ATTACH;FMTTYPE=image/jpeg:https://megsinspirations.com/wp-content/uploads/2021/02/terry-scaled.jpg
END:VEVENT
BEGIN:VEVENT
DTSTART;TZID=America/New_York:20251221T163000
DTEND;TZID=America/New_York:20251221T180000
DTSTAMP:20260423T014717
CREATED:20251209T151113Z
LAST-MODIFIED:20251215T195854Z
UID:5205-1766334600-1766340000@megsinspirations.com
SUMMARY:Winter Solstice 2025 (Cancelled)
DESCRIPTION:Please note that this event has unfortunately been cancelled. Our apologies for the inconvenience.
URL:https://megsinspirations.com/event/winter-solstice-2025/
CATEGORIES:Honors
ATTACH;FMTTYPE=image/png:https://megsinspirations.com/wp-content/uploads/2023/12/zita-winter-bg.png
END:VEVENT
BEGIN:VEVENT
DTSTART;TZID=America/New_York:20250723T110000
DTEND;TZID=America/New_York:20250723T160000
DTSTAMP:20260423T014717
CREATED:20250710T190027Z
LAST-MODIFIED:20250721T154103Z
UID:5157-1753268400-1753286400@megsinspirations.com
SUMMARY:Book Release Event & Signing
DESCRIPTION:
URL:https://megsinspirations.com/event/book-release-event-signing-2025/
CATEGORIES:Honors
ATTACH;FMTTYPE=image/png:https://megsinspirations.com/wp-content/uploads/2025/07/gemma-book-res2.png
END:VEVENT
BEGIN:VEVENT
DTSTART;TZID=America/New_York:20250620T060000
DTEND;TZID=America/New_York:20250620T203000
DTSTAMP:20260423T014717
CREATED:20250605T145129Z
LAST-MODIFIED:20250606T190436Z
UID:5139-1750399200-1750451400@megsinspirations.com
SUMMARY:Summer Solstice 2025
DESCRIPTION:
URL:https://megsinspirations.com/event/summer-solstice-2025/
CATEGORIES:Honors
ATTACH;FMTTYPE=image/png:https://megsinspirations.com/wp-content/uploads/2024/05/zita-summer.png
END:VEVENT
BEGIN:VEVENT
DTSTART;VALUE=DATE:20250612
DTEND;VALUE=DATE:20250613
DTSTAMP:20260423T014717
CREATED:20230126T212049Z
LAST-MODIFIED:20250619T205656Z
UID:4732-1749686400-1749772799@megsinspirations.com
SUMMARY:Intuitive Angel & Oracle Readings (By Appointment)
DESCRIPTION:
URL:https://megsinspirations.com/event/4732/
CATEGORIES:Honors
ATTACH;FMTTYPE=image/jpeg:https://megsinspirations.com/wp-content/uploads/2023/01/gary_res.jpg
END:VEVENT
BEGIN:VEVENT
DTSTART;TZID=America/New_York:20250516T183000
DTEND;TZID=America/New_York:20250516T200000
DTSTAMP:20260423T014717
CREATED:20250421T131444Z
LAST-MODIFIED:20250425T143011Z
UID:5122-1747420200-1747425600@megsinspirations.com
SUMMARY:Magic of Beltane 2025
DESCRIPTION:
URL:https://megsinspirations.com/event/beltane2025/
CATEGORIES:Honors
ATTACH;FMTTYPE=image/png:https://megsinspirations.com/wp-content/uploads/2025/04/beltane25b.png
END:VEVENT
BEGIN:VEVENT
DTSTART;TZID=America/New_York:20250329T090000
DTEND;TZID=America/New_York:20250329T090000
DTSTAMP:20260423T014717
CREATED:20250210T201305Z
LAST-MODIFIED:20250210T201436Z
UID:5097-1743238800-1743238800@megsinspirations.com
SUMMARY:Spring Equinox Ritual
DESCRIPTION:
URL:https://megsinspirations.com/event/spring-equinox-2025/
CATEGORIES:Honors
ATTACH;FMTTYPE=image/png:https://megsinspirations.com/wp-content/uploads/2025/02/zita-spring-2.png
END:VEVENT
BEGIN:VEVENT
DTSTART;TZID=America/New_York:20241221T103000
DTEND;TZID=America/New_York:20241221T230000
DTSTAMP:20260423T014717
CREATED:20241213T174312Z
LAST-MODIFIED:20241213T174312Z
UID:5073-1734777000-1734822000@megsinspirations.com
SUMMARY:Winter Solstice Ritual
DESCRIPTION:
URL:https://megsinspirations.com/event/winter-solstice-ritual-2024/
ATTACH;FMTTYPE=image/png:https://megsinspirations.com/wp-content/uploads/2023/12/zita-winter-bg.png
END:VEVENT
BEGIN:VEVENT
DTSTART;TZID=America/New_York:20241101T180000
DTEND;TZID=America/New_York:20241101T200000
DTSTAMP:20260423T014717
CREATED:20241023T155500Z
LAST-MODIFIED:20241023T155500Z
UID:5056-1730484000-1730491200@megsinspirations.com
SUMMARY:Samhain Ritual 2024
DESCRIPTION:
URL:https://megsinspirations.com/event/samhain-ritual-2024/
CATEGORIES:Honors
ATTACH;FMTTYPE=image/png:https://megsinspirations.com/wp-content/uploads/2024/10/samhain24.png
END:VEVENT
BEGIN:VEVENT
DTSTART;TZID=America/New_York:20240926T180000
DTEND;TZID=America/New_York:20240926T200000
DTSTAMP:20260423T014717
CREATED:20240828T165030Z
LAST-MODIFIED:20240828T165030Z
UID:5019-1727373600-1727380800@megsinspirations.com
SUMMARY:Autumn Equinox Ritual
DESCRIPTION:
URL:https://megsinspirations.com/event/autumn-equinox-ritual2024/
CATEGORIES:Honors
ATTACH;FMTTYPE=image/png:https://megsinspirations.com/wp-content/uploads/2024/08/autumn-24.png
END:VEVENT
BEGIN:VEVENT
DTSTART;TZID=America/New_York:20240620T060000
DTEND;TZID=America/New_York:20240620T203000
DTSTAMP:20260423T014717
CREATED:20240517T204505Z
LAST-MODIFIED:20240517T204505Z
UID:4974-1718863200-1718915400@megsinspirations.com
SUMMARY:Summer Solstice 2024
DESCRIPTION:
URL:https://megsinspirations.com/event/summer-solstice-2024/
CATEGORIES:Honors
ATTACH;FMTTYPE=image/png:https://megsinspirations.com/wp-content/uploads/2024/05/zita-summer.png
END:VEVENT
BEGIN:VEVENT
DTSTART;TZID=America/New_York:20240509T183000
DTEND;TZID=America/New_York:20240509T200000
DTSTAMP:20260423T014717
CREATED:20240416T154639Z
LAST-MODIFIED:20240416T154716Z
UID:4957-1715279400-1715284800@megsinspirations.com
SUMMARY:Magic of Beltane Ritual
DESCRIPTION:
URL:https://megsinspirations.com/event/beltane2024/
CATEGORIES:Honors
ATTACH;FMTTYPE=image/png:https://megsinspirations.com/wp-content/uploads/2024/04/beltane24.png
END:VEVENT
BEGIN:VEVENT
DTSTART;VALUE=DATE:20240404
DTEND;VALUE=DATE:20240405
DTSTAMP:20260423T014717
CREATED:20230911T205359Z
LAST-MODIFIED:20240417T154105Z
UID:4841-1712188800-1712275199@megsinspirations.com
SUMMARY:Soul Retrieval (By Appointment)
DESCRIPTION:
URL:https://megsinspirations.com/event/soul-retrieval-by-appointment/
CATEGORIES:Honors
ATTACH;FMTTYPE=image/jpeg:https://megsinspirations.com/wp-content/uploads/2023/09/tonya12_res.jpg
END:VEVENT
BEGIN:VEVENT
DTSTART;TZID=America/New_York:20240314T180000
DTEND;TZID=America/New_York:20240314T200000
DTSTAMP:20260423T014717
CREATED:20240207T185617Z
LAST-MODIFIED:20240207T185617Z
UID:4927-1710439200-1710446400@megsinspirations.com
SUMMARY:Spring Equinox 2024
DESCRIPTION:
URL:https://megsinspirations.com/event/spring-equinox-2024/
CATEGORIES:Honors
ATTACH;FMTTYPE=image/png:https://megsinspirations.com/wp-content/uploads/2024/02/zita-spring.png
END:VEVENT
BEGIN:VEVENT
DTSTART;TZID=America/New_York:20240131T180000
DTEND;TZID=America/New_York:20240131T200000
DTSTAMP:20260423T014717
CREATED:20231222T194753Z
LAST-MODIFIED:20231222T194753Z
UID:4912-1706724000-1706731200@megsinspirations.com
SUMMARY:Imbolc (Celtic Fire Festival) with Zita
DESCRIPTION:
URL:https://megsinspirations.com/event/imbolc-celtic-fire-festival-with-zita/
CATEGORIES:Honors
ATTACH;FMTTYPE=image/png:https://megsinspirations.com/wp-content/uploads/2023/12/zita-imbolc-bg.png
END:VEVENT
BEGIN:VEVENT
DTSTART;TZID=America/New_York:20240127T130000
DTEND;TZID=America/New_York:20240127T153000
DTSTAMP:20260423T014717
CREATED:20231212T163714Z
LAST-MODIFIED:20231212T163714Z
UID:4903-1706360400-1706369400@megsinspirations.com
SUMMARY:Totem Animal Workshop
DESCRIPTION:
URL:https://megsinspirations.com/event/totem-animal-workshop/
CATEGORIES:Honors
ATTACH;FMTTYPE=image/jpeg:https://megsinspirations.com/wp-content/uploads/2021/08/tonya8_cropped.jpg
END:VEVENT
BEGIN:VEVENT
DTSTART;TZID=America/New_York:20231219T180000
DTEND;TZID=America/New_York:20231219T180000
DTSTAMP:20260423T014717
CREATED:20231208T154830Z
LAST-MODIFIED:20231211T202228Z
UID:4888-1703008800-1703008800@megsinspirations.com
SUMMARY:Winter Solstice Celebration
DESCRIPTION:
URL:https://megsinspirations.com/event/winter-solstice-celebration/
CATEGORIES:Honors
ATTACH;FMTTYPE=image/png:https://megsinspirations.com/wp-content/uploads/2023/12/zita-winter-bg.png
END:VEVENT
BEGIN:VEVENT
DTSTART;TZID=America/New_York:20231007T120000
DTEND;TZID=America/New_York:20231007T140000
DTSTAMP:20260423T014717
CREATED:20230913T154521Z
LAST-MODIFIED:20230914T133513Z
UID:4847-1696680000-1696687200@megsinspirations.com
SUMMARY:Smudging & Crystal Workshop
DESCRIPTION:
URL:https://megsinspirations.com/event/smudging-crystal-workshop-copy/
CATEGORIES:Honors
ATTACH;FMTTYPE=image/jpeg:https://megsinspirations.com/wp-content/uploads/2021/08/tonya8_cropped.jpg
END:VEVENT
BEGIN:VEVENT
DTSTART;TZID=America/New_York:20230722T120000
DTEND;TZID=America/New_York:20230722T160000
DTSTAMP:20260423T014717
CREATED:20230710T135331Z
LAST-MODIFIED:20230710T135331Z
UID:4817-1690027200-1690041600@megsinspirations.com
SUMMARY:Book Release & Signing Event
DESCRIPTION:
URL:https://megsinspirations.com/event/book-release-signing-event/
CATEGORIES:Honors
ATTACH;FMTTYPE=image/png:https://megsinspirations.com/wp-content/uploads/2023/07/ESME-BOOK-2-D.png
END:VEVENT
BEGIN:VEVENT
DTSTART;TZID=America/New_York:20230415T120000
DTEND;TZID=America/New_York:20230415T140000
DTSTAMP:20260423T014717
CREATED:20230130T145123Z
LAST-MODIFIED:20230309T162559Z
UID:4738-1681560000-1681567200@megsinspirations.com
SUMMARY:Smudging & Crystal Workshop **Revised Date**
DESCRIPTION:
URL:https://megsinspirations.com/event/smudging-crystal-workshop/
CATEGORIES:Honors
ATTACH;FMTTYPE=image/jpeg:https://megsinspirations.com/wp-content/uploads/2021/08/tonya8_cropped.jpg
END:VEVENT
BEGIN:VEVENT
DTSTART;TZID=America/New_York:20230126T080000
DTEND;TZID=America/New_York:20230127T170000
DTSTAMP:20260423T014717
CREATED:20221220T181606Z
LAST-MODIFIED:20230421T195106Z
UID:4720-1674720000-1674838800@megsinspirations.com
SUMMARY:Intuitive Guidance with Energy Healing (by Appointment)
DESCRIPTION:
URL:https://megsinspirations.com/event/intuitive-guidance-with-energy-healing-by-appointment/
CATEGORIES:Honors
ATTACH;FMTTYPE=image/jpeg:https://megsinspirations.com/wp-content/uploads/2022/12/claire-1.jpg
END:VEVENT
BEGIN:VEVENT
DTSTART;TZID=America/New_York:20221126T113000
DTEND;TZID=America/New_York:20221126T170000
DTSTAMP:20260423T014717
CREATED:20220824T155043Z
LAST-MODIFIED:20221107T185101Z
UID:4658-1669462200-1669482000@megsinspirations.com
SUMMARY:Spiritual/Psychic Readings with Denise Atkinson
DESCRIPTION:
URL:https://megsinspirations.com/event/spiritual-psychic-readings-with-denise-atkinson/
CATEGORIES:Honors
ATTACH;FMTTYPE=image/jpeg:https://megsinspirations.com/wp-content/uploads/2021/04/denise_res.jpg
END:VEVENT
BEGIN:VEVENT
DTSTART;TZID=America/New_York:20221008T120000
DTEND;TZID=America/New_York:20221008T140000
DTSTAMP:20260423T014717
CREATED:20220922T125609Z
LAST-MODIFIED:20220922T125740Z
UID:4673-1665230400-1665237600@megsinspirations.com
SUMMARY:Smudging & Crystal Workshop
DESCRIPTION:
URL:https://megsinspirations.com/event/crystalsoct2022/
CATEGORIES:Honors
ATTACH;FMTTYPE=image/jpeg:https://megsinspirations.com/wp-content/uploads/2021/08/tonya8_cropped.jpg
END:VEVENT
BEGIN:VEVENT
DTSTART;TZID=America/New_York:20220728T130000
DTEND;TZID=America/New_York:20220728T160000
DTSTAMP:20260423T014717
CREATED:20220701T124017Z
LAST-MODIFIED:20220701T124355Z
UID:4634-1659013200-1659024000@megsinspirations.com
SUMMARY:Paint Party "Butterflies"
DESCRIPTION:
URL:https://megsinspirations.com/event/paint-party-butterflies-jul22/
CATEGORIES:Honors
ATTACH;FMTTYPE=image/jpeg:https://megsinspirations.com/wp-content/uploads/2022/07/paint-party-garden-res.jpg
END:VEVENT
BEGIN:VEVENT
DTSTART;TZID=America/New_York:20220723T120000
DTEND;TZID=America/New_York:20220723T140000
DTSTAMP:20260423T014717
CREATED:20220211T214155Z
LAST-MODIFIED:20220609T180916Z
UID:4577-1658577600-1658584800@megsinspirations.com
SUMMARY:Smudging & Crystal Workshop
DESCRIPTION:
URL:https://megsinspirations.com/event/4577/
CATEGORIES:Honors
ATTACH;FMTTYPE=image/jpeg:https://megsinspirations.com/wp-content/uploads/2021/08/tonya8_cropped.jpg
END:VEVENT
BEGIN:VEVENT
DTSTART;TZID=America/New_York:20220630T130000
DTEND;TZID=America/New_York:20220630T150000
DTSTAMP:20260423T014717
CREATED:20220615T211110Z
LAST-MODIFIED:20220615T211300Z
UID:4622-1656594000-1656601200@megsinspirations.com
SUMMARY:Paint Party "Sunflowers for Peace"
DESCRIPTION:
URL:https://megsinspirations.com/event/paint-party-sunflowers-for-peace/
CATEGORIES:Honors
ATTACH;FMTTYPE=image/jpeg:https://megsinspirations.com/wp-content/uploads/2022/06/pp_sunflowers1_res.jpg
END:VEVENT
BEGIN:VEVENT
DTSTART;TZID=America/New_York:20220624T150000
DTEND;TZID=America/New_York:20220624T180000
DTSTAMP:20260423T014717
CREATED:20220609T181132Z
LAST-MODIFIED:20220609T181132Z
UID:4616-1656082800-1656093600@megsinspirations.com
SUMMARY:Book Release & Signing
DESCRIPTION:
URL:https://megsinspirations.com/event/book-release-signing/
CATEGORIES:Honors
ATTACH;FMTTYPE=image/png:https://megsinspirations.com/wp-content/uploads/2022/06/esme-book.png
END:VEVENT
BEGIN:VEVENT
DTSTART;VALUE=DATE:20220212
DTEND;VALUE=DATE:20220213
DTSTAMP:20260423T014717
CREATED:20220208T203835Z
LAST-MODIFIED:20220208T204010Z
UID:4573-1644624000-1644710399@megsinspirations.com
SUMMARY:Soul Retrieval (appointment required)
DESCRIPTION:
URL:https://megsinspirations.com/event/meet-greet-with-waloosi-feb22/
CATEGORIES:Honors
ATTACH;FMTTYPE=image/jpeg:https://megsinspirations.com/wp-content/uploads/2021/10/tonya2_cropped.jpg
END:VEVENT
BEGIN:VEVENT
DTSTART;TZID=America/New_York:20211219T113000
DTEND;TZID=America/New_York:20211219T160000
DTSTAMP:20260423T014717
CREATED:20211015T135521Z
LAST-MODIFIED:20211202T160218Z
UID:4514-1639913400-1639929600@megsinspirations.com
SUMMARY:**NEW DATE** Trunk Show: Hand-Painted Mugs by Gretchen
DESCRIPTION:
URL:https://megsinspirations.com/event/trunk-show-hand-painted-mugs-by-gretchen/
CATEGORIES:Honors
ATTACH;FMTTYPE=image/jpeg:https://megsinspirations.com/wp-content/uploads/2021/10/mug1_res.jpg
END:VEVENT
END:VCALENDAR