BEGIN:VCALENDAR
VERSION:2.0
PRODID:-//Meg&#039;s Inspirations - ECPv6.9.0//NONSGML v1.0//EN
CALSCALE:GREGORIAN
METHOD:PUBLISH
X-WR-CALNAME:Meg&#039;s Inspirations
X-ORIGINAL-URL:https://megsinspirations.com
X-WR-CALDESC:Events for Meg&#039;s Inspirations
REFRESH-INTERVAL;VALUE=DURATION:PT1H
X-Robots-Tag:noindex
X-PUBLISHED-TTL:PT1H
BEGIN:VTIMEZONE
TZID:America/New_York
BEGIN:DAYLIGHT
TZOFFSETFROM:-0500
TZOFFSETTO:-0400
TZNAME:EDT
DTSTART:20260308T070000
END:DAYLIGHT
BEGIN:STANDARD
TZOFFSETFROM:-0400
TZOFFSETTO:-0500
TZNAME:EST
DTSTART:20261101T060000
END:STANDARD
END:VTIMEZONE
BEGIN:VEVENT
DTSTART;TZID=America/New_York:20260423T110000
DTEND;TZID=America/New_York:20260423T170000
DTSTAMP:20260423T030334
CREATED:20230130T215547Z
LAST-MODIFIED:20260422T135409Z
UID:4741-1776942000-1776963600@megsinspirations.com
SUMMARY:Reiki with Wannetta (By Appointment)
DESCRIPTION:
URL:https://megsinspirations.com/event/reiki-with-wannetta-by-appointment/
CATEGORIES:Honors
ATTACH;FMTTYPE=image/jpeg:https://megsinspirations.com/wp-content/uploads/2023/01/wannetta_cropped.jpg
END:VEVENT
END:VCALENDAR